BEGIN:VCALENDAR
VERSION:2.0
PRODID:-//Eventin//Event Calendar//EN
CALSCALE:GREGORIAN
METHOD:PUBLISH
BEGIN:VEVENT
UID:ae66902f7184dad482809c58b3f50049@drjosephortiz.com
SUMMARY:Cómo enseñar la Biblia para transformar vidas (aunque tus clases 
 hoy no estén funcionando)
DESCRIPTION:Si estás enseñando la Biblia… pero tu gente no está cambia
 ndo\, esto es para ti.\nLa realidad es esta:muchos líderes\, maestros y pa
 stores están enseñando fielmente… pero sin ver transformación real en 
 las personas.\nNo es falta de pasión.No es falta de conocimiento.\n👉 Es
  falta de un método que funcione.\nJesús nunca enseñó solo para informa
 r.Él enseñaba para transformar vidas.\nY en esta clase gratuita te voy a 
 mostrar cómo hacerlo.\n🎯 En este entrenamiento vas a descubrir:\n\nPor 
 qué tus enseñanzas no están produciendo el impacto que esperas\nEl error
  más común que cometen los maestros bíblicos (y cómo evitarlo)\nCómo e
 nseñaba Jesús realmente (más allá de lo que te han dicho)\nLos principi
 os clave que hacen que una enseñanza bíblica produzca cambio real\nCómo 
 comenzar a aplicar esto inmediatamente en tu iglesia o ministerio\n\nNo nec
 esitas ser experto.No necesitas tener formación teológica avanzada.\n👉
  Necesitas aprender a enseñar de la manera correcta.\nSi sientes que puede
 s dar más…si sabes que las personas deberían estar creciendo más…si 
 quieres dejar de enseñar por rutina y comenzar a ver transformación real
 …\nEste entrenamiento es para ti.\n🗓 Reserva tu espacio ahora(Es gratu
 ito\, pero los espacios son limitados)
LOCATION:Online
DTSTAMP:20260423T171214Z
DTSTART:20260505T230000Z
DTEND:20260506T003000Z
END:VEVENT
END:VCALENDAR
